{"text_format":"1","workbook":"xlsx","n_sheets":1,"sheets":["Form_44"],"not_rendered":{"charts":0,"images":2,"macros":1,"external_links":2,"defined_names":13,"comments":1,"pivot_tables":0},"unopened":[],"bounds":{"document_bytes":16777216,"sheet_cells":100000,"rows_first":2000,"rows_last":500,"rows_between":2000,"halvings":0,"cell_chars":16384,"cell_head_chars":4096},"cells_cut":0,"cells_raw":0,"read":"whole","date_system":"1900"}

{"sheet":"Form_44","index":0,"n_rows":34,"n_cols":23,"rows_kept":34,"cut":false,"hidden":false,"merged":[[33,0,34,1],[33,2,34,4],[33,5,34,8],[33,9,34,11],[5,0,5,11],[6,0,6,11],[27,2,27,11],[30,1,30,11],[31,1,31,11],[7,10,10,10],[7,11,10,11],[7,3,7,5],[25,0,25,9],[28,1,28,11],[7,0,10,0],[7,6,10,6],[1,10,1,11],[2,0,2,11],[3,0,3,11],[1,0,1,8],[4,0,4,11],[7,7,10,7],[7,8,10,8],[7,9,10,9],[7,1,10,1],[32,1,32,11]]}
[]
["jktLFkku ljdkj\nçkfof/kd f'k{kk e.My] jktLFkku] tks/kiqj \nijh{kk l= 2023&24 ¼ukWu&bath- 6th lsesLVj Lis'ky ebZ 2024½",null,null,null,null,null,null,null,null,null,"ikfjJfed foi=&44",null,null,null,null,null,null,0,null,null,null,0,11]
["ijh{kk dsUnz @laLFkku dk uke ,oa iwjk irk--------------------------------------------------------------------------------------------------------------------------------------------------- ijh{kk dsUnz dksM----------------------------------------------------------------------------------------------",null,null,null,null,null,null,null,null,null,null,null,null,null,null,null,null,1,null,null,null,1,12]
["ijh{kk dsUnz@laLFkku ds cSad dk uke ------------------------------------------------------------------------  [kkrk la[;k ----------------------laLFkku dk isu uEcj---------------------------------- vkbZ,Q,llh dksM----------------------------------------",null,null,null,null,null,null,null,null,null,null,null,null,null,null,null,null,2,null,null,null,2,13]
[null,null,null,null,null,null,null,null,null,null,null,null,null,null,null,null,null,null,null,null,null,null,14]
["¼1½ dkWye dksM es ijh{kk dsUnz v/kh{kd gsrq 11] vfrfjDr ijh{kk dsUnzz  v/kh{kd gsrq 12] ijh{kk oh{kd gsrq 13] Eak=kyf;d gsrq 14 ,oa prqFkZ Js.kh deZpkjh gsrq 15 vafdr djsaA",null,null,null,null,null,null,null,null,null,null,null,null,null,null,null,null,null,null,null,null,null,15]
["¼2½ fnukad @ikjh okys dkWye esa mifLFkfr fnol @ ikjh ds fnu 1 vafdr djsa vuqifLFfr ij 0 vafdr djsaA dqy jkf'k okys dkWye  esa x.kuk Lor% gh gksxhA vr% bl dkWye esa dqN vafdr ugha djsA"]
["SN.","Officer/Employee Name in Capital Letters with Designation\n",null,"Exam Date",null,null,"EXTRA-BEFORE","EXTRA-AFTER","TOTAL SESSIONS","RATE","TOTAL AMOUNT","SIGNATURE"]
[null,null,null,"2025-01-30","2025-02-01","2025-02-05"]
[null,null,"STUDENT STRENGTH"]
[null,null,"CODE"]
[{"$f":"IF(B12=\"\",\"\",1)","v":""},null,null,null,null,0,null,null,{"$f":"SUM(D12:H12)","v":0},null,{"$f":"IF(C12=\"\",0,IF(B12=\"\",0,IF(C12=11,I12*100,IF(C12=12,I12*75,IF(C12=13,ROUND(I12*70,0),IF(C12=14,I12*40,IF(C12=15,I12*30)))))))","v":0}]
[{"$f":"IF(B13=\"\",\"\",#REF!+1)","v":""},null,null,null,null,null,null,null,{"$f":"SUM(D13:H13)","v":0},null,{"$f":"IF(C13=\"\",0,IF(B13=\"\",0,IF(C13=11,I13*100,IF(C13=12,I13*75,IF(C13=13,ROUND(I13*70,0),IF(C13=14,I13*40,IF(C13=15,I13*30)))))))","v":0}]
[{"$f":"IF(B14=\"\",\"\",#REF!+1)","v":""},null,null,null,null,null,null,null,{"$f":"SUM(D14:H14)","v":0},null,{"$f":"IF(C14=\"\",0,IF(B14=\"\",0,IF(C14=11,I14*100,IF(C14=12,I14*75,IF(C14=13,ROUND(I14*70,0),IF(C14=14,I14*40,IF(C14=15,I14*30)))))))","v":0}]
[{"$f":"IF(B15=\"\",\"\",#REF!+1)","v":""},null,null,null,null,null,null,null,{"$f":"SUM(D15:H15)","v":0},null,{"$f":"IF(C15=\"\",0,IF(B15=\"\",0,IF(C15=11,I15*100,IF(C15=12,I15*75,IF(C15=13,ROUND(I15*70,0),IF(C15=14,I15*40,IF(C15=15,I15*30)))))))","v":0}]
[{"$f":"IF(B16=\"\",\"\",#REF!+1)","v":""},null,null,null,null,null,null,null,{"$f":"SUM(D16:H16)","v":0},null,{"$f":"IF(C16=\"\",0,IF(B16=\"\",0,IF(C16=11,I16*100,IF(C16=12,I16*75,IF(C16=13,ROUND(I16*70,0),IF(C16=14,I16*40,IF(C16=15,I16*30)))))))","v":0}]
[{"$f":"IF(B17=\"\",\"\",#REF!+1)","v":""},null,null,null,null,null,null,null,{"$f":"SUM(D17:H17)","v":0},null,{"$f":"IF(C17=\"\",0,IF(B17=\"\",0,IF(C17=11,I17*100,IF(C17=12,I17*75,IF(C17=13,ROUND(I17*70,0),IF(C17=14,I17*40,IF(C17=15,I17*30)))))))","v":0}]
[{"$f":"IF(B18=\"\",\"\",A17+1)","v":""},null,null,null,null,null,null,null,{"$f":"SUM(D18:H18)","v":0},null,{"$f":"IF(C18=\"\",0,IF(B18=\"\",0,IF(C18=11,I18*100,IF(C18=12,I18*75,IF(C18=13,ROUND(I18*70,0),IF(C18=14,I18*40,IF(C18=15,I18*30)))))))","v":0}]
[null,null,null,null,null,null,null,null,{"$f":"SUM(D19:H19)","v":0},null,{"$f":"IF(C19=\"\",0,IF(B19=\"\",0,IF(C19=11,I19*100,IF(C19=12,I19*75,IF(C19=13,ROUND(I19*70,0),IF(C19=14,I19*40,IF(C19=15,I19*30)))))))","v":0}]
[null,null,null,null,null,null,null,null,{"$f":"SUM(D20:H20)","v":0},null,{"$f":"IF(C20=\"\",0,IF(B20=\"\",0,IF(C20=11,I20*100,IF(C20=12,I20*75,IF(C20=13,ROUND(I20*70,0),IF(C20=14,I20*40,IF(C20=15,I20*30)))))))","v":0}]
[null,null,null,null,null,null,null,null,{"$f":"SUM(D21:H21)","v":0},null,{"$f":"IF(C21=\"\",0,IF(B21=\"\",0,IF(C21=11,I21*100,IF(C21=12,I21*75,IF(C21=13,ROUND(I21*70,0),IF(C21=14,I21*40,IF(C21=15,I21*30)))))))","v":0}]
[null,null,null,null,null,null,null,null,{"$f":"SUM(D22:H22)","v":0},null,{"$f":"IF(C22=\"\",0,IF(B22=\"\",0,IF(C22=11,I22*100,IF(C22=12,I22*75,IF(C22=13,ROUND(I22*70,0),IF(C22=14,I22*40,IF(C22=15,I22*30)))))))","v":0}]
[null,null,null,null,null,null,null,null,{"$f":"SUM(D23:H23)","v":0},null,{"$f":"IF(C23=\"\",0,IF(B23=\"\",0,IF(C23=11,I23*100,IF(C23=12,I23*75,IF(C23=13,ROUND(I23*70,0),IF(C23=14,I23*40,IF(C23=15,I23*30)))))))","v":0}]
[null,null,null,null,null,null,null,null,{"$f":"SUM(D24:H24)","v":0},null,{"$f":"IF(C24=\"\",0,IF(B24=\"\",0,IF(C24=11,I24*100,IF(C24=12,I24*75,IF(C24=13,ROUND(I24*70,0),IF(C24=14,I24*40,IF(C24=15,I24*30)))))))","v":0}]
[null,null,null,null,null,null,null,null,{"$f":"SUM(D25:H25)","v":0},null,{"$f":"IF(C25=\"\",0,IF(B25=\"\",0,IF(C25=11,I25*100,IF(C25=12,I25*75,IF(C25=13,ROUND(I25*70,0),IF(C25=14,I25*40,IF(C25=15,I25*30)))))))","v":0}]
["Grand Total",null,null,null,null,null,null,null,null,null,{"$f":"SUM(K12:K25)","v":0}]
[null,"dqy :Ik;s vadks esa",{"$f":"+K26","v":0}]
[null,"dqy :Ik;s 'kCnksa esa ",{"$f":"IF(K26>0, SUBSTITUTE(spellnumber(K26),\"Dollars and No Cents\",\"only\"),\"Rupees ….Nil ….\")","v":"Rupees ….Nil …."}]
[null,"No.                                         e.My dk;kZy; ç;ksxkFkZ\nfnukad                                          çekf.kr ,oa ikfjr \n\n"]
["izek.k i=%&"]
[1,"izekf.kr fd;k tkrk gS fd izkfof/kd f'k{kk e.My] jktFkku] tks/kiqj ijh{kk ckcr~ le;&le; ij izlkfjr funsZ'k ;Fkk ijh{kk v/kh{kd funsZ'k iqfLrwdk dh ikyuk djrs gq, fu/kkZfjr ekin.M vuqlkj dkfeZdksa dh lsok,as izkIr djrs gq, ikfjJfed nkok funsZ'kkuqlkj vko';d foi=ksa dks layXu djrs gq, izLrqr fd;k x;k gSA"]
[2,"Hkqxrku gsrq ;g fcy izFke ckj izLrqr x;k gSA"]
[3,"Hkqxrku forj.k Ik'pkr izkfIr jlhn e.My dks fHktok nh tk;sxhA"]
["izHkkjh vf/kdkjh",null,"izHkkjh",null,null,null,null,null,null,"iz/kkukpk;Z gLrk{kj e; lhy"]